Package: nanotubes Version: 1.27.0 Command: /home/biocbuild/bbs-3.23-bioc/R/bin/R CMD build --keep-empty-dirs --no-resave-data nanotubes StartedAt: 2025-10-30 11:29:24 -0400 (Thu, 30 Oct 2025) EndedAt: 2025-10-30 11:29:47 -0400 (Thu, 30 Oct 2025) EllapsedTime: 22.6 seconds RetCode: 0 Status: OK PackageFile: nanotubes_1.27.0.tar.gz PackageFileSize: 117.6 MiB