Package: multiWGCNAdata Version: 1.9.0 Command: /home/biocbuild/bbs-3.23-bioc/R/bin/R CMD INSTALL multiWGCNAdata StartedAt: 2025-10-30 10:57:43 -0400 (Thu, 30 Oct 2025) EndedAt: 2025-10-30 10:57:52 -0400 (Thu, 30 Oct 2025) EllapsedTime: 8.7 seconds RetCode: 0 Status: OK