Package: multiWGCNAdata Version: 1.9.0 Command: /home/biocbuild/bbs-3.23-bioc/R/bin/R CMD check --install=check:multiWGCNAdata.install-out.txt --library=/home/biocbuild/bbs-3.23-bioc/R/site-library --timings multiWGCNAdata_1.9.0.tar.gz StartedAt: 2025-10-30 12:31:18 -0400 (Thu, 30 Oct 2025) EndedAt: 2025-10-30 12:32:16 -0400 (Thu, 30 Oct 2025) EllapsedTime: 57.9 seconds RetCode: 0 Status: OK CheckDir: multiWGCNAdata.Rcheck Warnings: 0