Package: multiWGCNAdata Version: 1.9.0 Command: /home/biocbuild/bbs-3.23-bioc/R/bin/R CMD build --keep-empty-dirs --no-resave-data multiWGCNAdata StartedAt: 2025-10-30 11:29:12 -0400 (Thu, 30 Oct 2025) EndedAt: 2025-10-30 11:29:36 -0400 (Thu, 30 Oct 2025) EllapsedTime: 24.6 seconds RetCode: 0 Status: OK PackageFile: multiWGCNAdata_1.9.0.tar.gz PackageFileSize: 221.2 KiB