Package: muleaData Version: 1.7.0 Command: /home/biocbuild/bbs-3.23-bioc/R/bin/R CMD check --install=check:muleaData.install-out.txt --library=/home/biocbuild/bbs-3.23-bioc/R/site-library --timings muleaData_1.7.0.tar.gz StartedAt: 2025-10-30 12:31:04 -0400 (Thu, 30 Oct 2025) EndedAt: 2025-10-30 12:31:32 -0400 (Thu, 30 Oct 2025) EllapsedTime: 28.6 seconds RetCode: 0 Status: WARNINGS CheckDir: muleaData.Rcheck Warnings: 3