Package: muleaData Version: 1.7.0 Command: /home/biocbuild/bbs-3.23-bioc/R/bin/R CMD build --keep-empty-dirs --no-resave-data muleaData StartedAt: 2025-10-30 11:29:07 -0400 (Thu, 30 Oct 2025) EndedAt: 2025-10-30 11:29:17 -0400 (Thu, 30 Oct 2025) EllapsedTime: 10.1 seconds RetCode: 0 Status: OK PackageFile: muleaData_1.7.0.tar.gz PackageFileSize: 40.98 KiB