Package: muSpaData Version: 1.3.0 Command: /home/biocbuild/bbs-3.23-bioc/R/bin/R CMD INSTALL muSpaData StartedAt: 2025-11-06 10:56:47 -0500 (Thu, 06 Nov 2025) EndedAt: 2025-11-06 10:57:00 -0500 (Thu, 06 Nov 2025) EllapsedTime: 12.7 seconds RetCode: 0 Status: OK