Package: mtbls2 Version: 1.41.0 Command: /home/biocbuild/bbs-3.23-bioc/R/bin/R CMD INSTALL mtbls2 StartedAt: 2025-10-30 10:55:42 -0400 (Thu, 30 Oct 2025) EndedAt: 2025-10-30 10:56:24 -0400 (Thu, 30 Oct 2025) EllapsedTime: 42.3 seconds RetCode: 0 Status: OK