Package: mtbls2 Version: 1.41.0 Command: /home/biocbuild/bbs-3.23-bioc/R/bin/R CMD check --install=check:mtbls2.install-out.txt --library=/home/biocbuild/bbs-3.23-bioc/R/site-library --timings mtbls2_1.41.0.tar.gz StartedAt: 2025-10-30 12:30:27 -0400 (Thu, 30 Oct 2025) EndedAt: 2025-10-30 12:34:43 -0400 (Thu, 30 Oct 2025) EllapsedTime: 256.0 seconds RetCode: 0 Status: WARNINGS CheckDir: mtbls2.Rcheck Warnings: 1