Package: mtbls2 Version: 1.41.0 Command: /home/biocbuild/bbs-3.23-bioc/R/bin/R CMD build --keep-empty-dirs --no-resave-data mtbls2 StartedAt: 2025-10-30 11:28:38 -0400 (Thu, 30 Oct 2025) EndedAt: 2025-10-30 11:29:54 -0400 (Thu, 30 Oct 2025) EllapsedTime: 76.0 seconds RetCode: 0 Status: OK PackageFile: mtbls2_1.41.0.tar.gz PackageFileSize: 183.1 MiB