############################################################################## ############################################################################## ### ### Running command: ### ### /home/biocbuild/bbs-3.23-bioc/R/bin/R CMD INSTALL msigdb ### ############################################################################## ############################################################################## * installing to library ‘/home/biocbuild/bbs-3.23-bioc/R/site-library’ ERROR: dependency ‘org.Mm.eg.db’ is not available for package ‘msigdb’ Perhaps try a variation of: install.packages('org.Mm.eg.db') * removing ‘/home/biocbuild/bbs-3.23-bioc/R/site-library/msigdb’