Package: msigdb Version: 1.19.0 Command: /home/biocbuild/bbs-3.23-bioc/R/bin/R CMD build --keep-empty-dirs --no-resave-data msigdb StartedAt: 2025-10-30 11:28:30 -0400 (Thu, 30 Oct 2025) EndedAt: 2025-10-30 11:28:32 -0400 (Thu, 30 Oct 2025) EllapsedTime: 1.3 seconds RetCode: 1 Status: ERROR PackageFile: None PackageFileSize: NA