Package: msdata Version: 0.51.0 Command: /home/biocbuild/bbs-3.23-bioc/R/bin/R CMD INSTALL msdata StartedAt: 2025-10-30 10:55:20 -0400 (Thu, 30 Oct 2025) EndedAt: 2025-10-30 10:55:37 -0400 (Thu, 30 Oct 2025) EllapsedTime: 16.3 seconds RetCode: 0 Status: OK