Package: msdata Version: 0.51.0 Command: /home/biocbuild/bbs-3.23-bioc/R/bin/R CMD check --install=check:msdata.install-out.txt --library=/home/biocbuild/bbs-3.23-bioc/R/site-library --timings msdata_0.51.0.tar.gz StartedAt: 2025-11-04 12:38:32 -0500 (Tue, 04 Nov 2025) EndedAt: 2025-11-04 12:40:38 -0500 (Tue, 04 Nov 2025) EllapsedTime: 126.1 seconds RetCode: 0 Status: OK CheckDir: msdata.Rcheck Warnings: 0