Package: msdata Version: 0.51.0 Command: /home/biocbuild/bbs-3.23-bioc/R/bin/R CMD build --keep-empty-dirs --no-resave-data msdata StartedAt: 2025-10-30 11:28:18 -0400 (Thu, 30 Oct 2025) EndedAt: 2025-10-30 11:29:11 -0400 (Thu, 30 Oct 2025) EllapsedTime: 52.9 seconds RetCode: 0 Status: OK PackageFile: msdata_0.51.0.tar.gz PackageFileSize: 426.4 MiB