Package: msd16s Version: 1.31.0 Command: /home/biocbuild/bbs-3.23-bioc/R/bin/R CMD INSTALL msd16s StartedAt: 2025-10-30 10:56:43 -0400 (Thu, 30 Oct 2025) EndedAt: 2025-10-30 10:56:51 -0400 (Thu, 30 Oct 2025) EllapsedTime: 8.0 seconds RetCode: 0 Status: OK