Package: msPurityData Version: 1.37.0 Command: /home/biocbuild/bbs-3.22-bioc/R/bin/R CMD check --install=check:msPurityData.install-out.txt --library=/home/biocbuild/bbs-3.22-bioc/R/site-library --timings msPurityData_1.37.0.tar.gz StartedAt: 2025-09-25 12:48:56 -0400 (Thu, 25 Sep 2025) EndedAt: 2025-09-25 12:49:28 -0400 (Thu, 25 Sep 2025) EllapsedTime: 31.3 seconds RetCode: 0 Status: OK CheckDir: msPurityData.Rcheck Warnings: 0