Package: msPurityData Version: 1.39.0 Command: /home/biocbuild/bbs-3.23-bioc/R/bin/R CMD check --install=check:msPurityData.install-out.txt --library=/home/biocbuild/bbs-3.23-bioc/R/site-library --timings msPurityData_1.39.0.tar.gz StartedAt: 2025-10-30 12:30:20 -0400 (Thu, 30 Oct 2025) EndedAt: 2025-10-30 12:31:03 -0400 (Thu, 30 Oct 2025) EllapsedTime: 42.9 seconds RetCode: 0 Status: OK CheckDir: msPurityData.Rcheck Warnings: 0