Package: msPurityData Version: 1.39.0 Command: /home/biocbuild/bbs-3.23-bioc/R/bin/R CMD build --keep-empty-dirs --no-resave-data msPurityData StartedAt: 2025-10-30 11:28:32 -0400 (Thu, 30 Oct 2025) EndedAt: 2025-10-30 11:31:00 -0400 (Thu, 30 Oct 2025) EllapsedTime: 147.6 seconds RetCode: 0 Status: OK PackageFile: msPurityData_1.39.0.tar.gz PackageFileSize: 233.5 MiB