Package: mosaicsExample Version: 1.49.0 Command: /home/biocbuild/bbs-3.23-bioc/R/bin/R CMD build --keep-empty-dirs --no-resave-data mosaicsExample StartedAt: 2025-10-30 11:28:00 -0400 (Thu, 30 Oct 2025) EndedAt: 2025-10-30 11:28:18 -0400 (Thu, 30 Oct 2025) EllapsedTime: 17.7 seconds RetCode: 0 Status: OK PackageFile: mosaicsExample_1.49.0.tar.gz PackageFileSize: 48.06 MiB