Package: minionSummaryData Version: 1.41.0 Command: /home/biocbuild/bbs-3.23-bioc/R/bin/R CMD build --keep-empty-dirs --no-resave-data minionSummaryData StartedAt: 2025-10-30 11:27:47 -0400 (Thu, 30 Oct 2025) EndedAt: 2025-10-30 11:28:00 -0400 (Thu, 30 Oct 2025) EllapsedTime: 12.8 seconds RetCode: 0 Status: OK PackageFile: minionSummaryData_1.41.0.tar.gz PackageFileSize: 134.7 MiB