Package: minfiDataEPIC Version: 1.37.0 Command: /home/biocbuild/bbs-3.23-bioc/R/bin/R CMD INSTALL minfiDataEPIC StartedAt: 2025-11-20 11:01:53 -0500 (Thu, 20 Nov 2025) EndedAt: 2025-11-20 11:02:40 -0500 (Thu, 20 Nov 2025) EllapsedTime: 46.6 seconds RetCode: 0 Status: OK