Package: minfiDataEPIC Version: 1.37.0 Command: /home/biocbuild/bbs-3.23-bioc/R/bin/R CMD build --keep-empty-dirs --no-resave-data minfiDataEPIC StartedAt: 2025-11-20 11:31:34 -0500 (Thu, 20 Nov 2025) EndedAt: 2025-11-20 11:31:45 -0500 (Thu, 20 Nov 2025) EllapsedTime: 11.3 seconds RetCode: 0 Status: OK PackageFile: minfiDataEPIC_1.37.0.tar.gz PackageFileSize: 69.26 MiB