############################################################################## ############################################################################## ### ### Running command: ### ### /home/biocbuild/bbs-3.23-bioc/R/bin/R CMD INSTALL minfiData ### ############################################################################## ############################################################################## * installing to library ‘/home/biocbuild/bbs-3.23-bioc/R/site-library’ ERROR: dependencies ‘IlluminaHumanMethylation450kmanifest’, ‘IlluminaHumanMethylation450kanno.ilmn12.hg19’ are not available for package ‘minfiData’ Perhaps try a variation of: install.packages(c('IlluminaHumanMethylation450kmanifest', 'IlluminaHumanMethylation450kanno.ilmn12.hg19')) * removing ‘/home/biocbuild/bbs-3.23-bioc/R/site-library/minfiData’