Package: minfiData Version: 0.57.0 Command: /home/biocbuild/bbs-3.23-bioc/R/bin/R CMD check --install=check:minfiData.install-out.txt --library=/home/biocbuild/bbs-3.23-bioc/R/site-library --timings minfiData_0.57.0.tar.gz StartedAt: 2025-10-30 12:27:57 -0400 (Thu, 30 Oct 2025) EndedAt: 2025-10-30 12:28:09 -0400 (Thu, 30 Oct 2025) EllapsedTime: 12.3 seconds RetCode: 1 Status: ERROR CheckDir: minfiData.Rcheck Warnings: NA