Package: minfiData Version: 0.57.0 Command: /home/biocbuild/bbs-3.23-bioc/R/bin/R CMD build --keep-empty-dirs --no-resave-data minfiData StartedAt: 2025-10-30 11:27:24 -0400 (Thu, 30 Oct 2025) EndedAt: 2025-10-30 11:27:37 -0400 (Thu, 30 Oct 2025) EllapsedTime: 13.0 seconds RetCode: 0 Status: OK PackageFile: minfiData_0.57.0.tar.gz PackageFileSize: 74.56 MiB