Package: microbiomeDataSets Version: 1.19.0 Command: /home/biocbuild/bbs-3.23-bioc/R/bin/R CMD INSTALL microbiomeDataSets StartedAt: 2025-10-30 11:01:22 -0400 (Thu, 30 Oct 2025) EndedAt: 2025-10-30 11:01:54 -0400 (Thu, 30 Oct 2025) EllapsedTime: 31.9 seconds RetCode: 0 Status: OK