Package: microbiomeDataSets Version: 1.19.0 Command: /home/biocbuild/bbs-3.23-bioc/R/bin/R CMD check --install=check:microbiomeDataSets.install-out.txt --library=/home/biocbuild/bbs-3.23-bioc/R/site-library --timings microbiomeDataSets_1.19.0.tar.gz StartedAt: 2025-10-30 12:26:57 -0400 (Thu, 30 Oct 2025) EndedAt: 2025-10-30 12:32:12 -0400 (Thu, 30 Oct 2025) EllapsedTime: 315.5 seconds RetCode: 0 Status: OK CheckDir: microbiomeDataSets.Rcheck Warnings: 0