Package: microbiomeDataSets Version: 1.19.0 Command: /home/biocbuild/bbs-3.23-bioc/R/bin/R CMD build --keep-empty-dirs --no-resave-data microbiomeDataSets StartedAt: 2025-10-30 11:27:11 -0400 (Thu, 30 Oct 2025) EndedAt: 2025-10-30 11:27:56 -0400 (Thu, 30 Oct 2025) EllapsedTime: 44.5 seconds RetCode: 0 Status: OK PackageFile: microbiomeDataSets_1.19.0.tar.gz PackageFileSize: 234.9 KiB