Package: microRNAome Version: 1.33.0 Command: /home/biocbuild/bbs-3.23-bioc/R/bin/R CMD check --install=check:microRNAome.install-out.txt --library=/home/biocbuild/bbs-3.23-bioc/R/site-library --timings microRNAome_1.33.0.tar.gz StartedAt: 2025-10-30 12:27:44 -0400 (Thu, 30 Oct 2025) EndedAt: 2025-10-30 12:29:49 -0400 (Thu, 30 Oct 2025) EllapsedTime: 125.2 seconds RetCode: 0 Status: WARNINGS CheckDir: microRNAome.Rcheck Warnings: 2