Package: methylclockData Version: 1.19.0 Command: /home/biocbuild/bbs-3.23-bioc/R/bin/R CMD INSTALL methylclockData StartedAt: 2025-10-30 11:03:06 -0400 (Thu, 30 Oct 2025) EndedAt: 2025-10-30 11:03:45 -0400 (Thu, 30 Oct 2025) EllapsedTime: 39.0 seconds RetCode: 0 Status: OK