Package: methylclockData Version: 1.19.0 Command: /home/biocbuild/bbs-3.23-bioc/R/bin/R CMD build --keep-empty-dirs --no-resave-data methylclockData StartedAt: 2025-10-30 11:27:05 -0400 (Thu, 30 Oct 2025) EndedAt: 2025-10-30 11:28:16 -0400 (Thu, 30 Oct 2025) EllapsedTime: 70.8 seconds RetCode: 0 Status: OK PackageFile: methylclockData_1.19.0.tar.gz PackageFileSize: 230.7 KiB