Package: mcsurvdata Version: 1.29.0 Command: /home/biocbuild/bbs-3.23-bioc/R/bin/R CMD check --install=check:mcsurvdata.install-out.txt --library=/home/biocbuild/bbs-3.23-bioc/R/site-library --timings mcsurvdata_1.29.0.tar.gz StartedAt: 2025-10-30 12:25:25 -0400 (Thu, 30 Oct 2025) EndedAt: 2025-10-30 12:26:57 -0400 (Thu, 30 Oct 2025) EllapsedTime: 91.6 seconds RetCode: 0 Status: OK CheckDir: mcsurvdata.Rcheck Warnings: 0