Package: mcsurvdata Version: 1.29.0 Command: /home/biocbuild/bbs-3.23-bioc/R/bin/R CMD build --keep-empty-dirs --no-resave-data mcsurvdata StartedAt: 2025-10-30 11:25:19 -0400 (Thu, 30 Oct 2025) EndedAt: 2025-10-30 11:25:47 -0400 (Thu, 30 Oct 2025) EllapsedTime: 27.4 seconds RetCode: 0 Status: OK PackageFile: mcsurvdata_1.29.0.tar.gz PackageFileSize: 229.5 KiB