Package: marinerData Version: 1.11.0 Command: /home/biocbuild/bbs-3.23-bioc/R/bin/R CMD INSTALL marinerData StartedAt: 2025-11-20 10:56:55 -0500 (Thu, 20 Nov 2025) EndedAt: 2025-11-20 10:57:08 -0500 (Thu, 20 Nov 2025) EllapsedTime: 12.7 seconds RetCode: 0 Status: OK