Package: marinerData Version: 1.11.0 Command: /home/biocbuild/bbs-3.23-bioc/R/bin/R CMD check --install=check:marinerData.install-out.txt --library=/home/biocbuild/bbs-3.23-bioc/R/site-library --timings marinerData_1.11.0.tar.gz StartedAt: 2025-11-20 12:47:11 -0500 (Thu, 20 Nov 2025) EndedAt: 2025-11-20 12:50:03 -0500 (Thu, 20 Nov 2025) EllapsedTime: 172.2 seconds RetCode: 0 Status: OK CheckDir: marinerData.Rcheck Warnings: 0