Package: marinerData Version: 1.11.0 Command: /home/biocbuild/bbs-3.23-bioc/R/bin/R CMD build --keep-empty-dirs --no-resave-data marinerData StartedAt: 2025-11-20 11:28:57 -0500 (Thu, 20 Nov 2025) EndedAt: 2025-11-20 11:29:32 -0500 (Thu, 20 Nov 2025) EllapsedTime: 35.8 seconds RetCode: 0 Status: OK PackageFile: marinerData_1.11.0.tar.gz PackageFileSize: 217.7 KiB