Package: maqcExpression4plex Version: 1.55.0 Command: /home/biocbuild/bbs-3.23-bioc/R/bin/R CMD INSTALL maqcExpression4plex StartedAt: 2025-10-30 10:55:32 -0400 (Thu, 30 Oct 2025) EndedAt: 2025-10-30 10:55:33 -0400 (Thu, 30 Oct 2025) EllapsedTime: 1.7 seconds RetCode: 0 Status: OK