Package: maqcExpression4plex Version: 1.55.0 Command: /home/biocbuild/bbs-3.23-bioc/R/bin/R CMD check --install=check:maqcExpression4plex.install-out.txt --library=/home/biocbuild/bbs-3.23-bioc/R/site-library --timings maqcExpression4plex_1.55.0.tar.gz StartedAt: 2025-10-30 12:25:03 -0400 (Thu, 30 Oct 2025) EndedAt: 2025-10-30 12:25:16 -0400 (Thu, 30 Oct 2025) EllapsedTime: 13.3 seconds RetCode: 0 Status: OK CheckDir: maqcExpression4plex.Rcheck Warnings: 0