Package: maqcExpression4plex Version: 1.55.0 Command: /home/biocbuild/bbs-3.23-bioc/R/bin/R CMD build --keep-empty-dirs --no-resave-data maqcExpression4plex StartedAt: 2025-10-30 11:24:57 -0400 (Thu, 30 Oct 2025) EndedAt: 2025-10-30 11:25:02 -0400 (Thu, 30 Oct 2025) EllapsedTime: 5.0 seconds RetCode: 0 Status: OK PackageFile: maqcExpression4plex_1.55.0.tar.gz PackageFileSize: 6.578 MiB