Package: mammaPrintData Version: 1.45.0 Command: /home/biocbuild/bbs-3.22-bioc/R/bin/R CMD check --install=check:mammaPrintData.install-out.txt --library=/home/biocbuild/bbs-3.22-bioc/R/site-library --timings mammaPrintData_1.45.0.tar.gz StartedAt: 2025-10-02 12:39:17 -0400 (Thu, 02 Oct 2025) EndedAt: 2025-10-02 12:40:28 -0400 (Thu, 02 Oct 2025) EllapsedTime: 71.1 seconds RetCode: 0 Status: OK CheckDir: mammaPrintData.Rcheck Warnings: 0