Package: mammaPrintData Version: 1.47.0 Command: /home/biocbuild/bbs-3.23-bioc/R/bin/R CMD check --install=check:mammaPrintData.install-out.txt --library=/home/biocbuild/bbs-3.23-bioc/R/site-library --timings mammaPrintData_1.47.0.tar.gz StartedAt: 2025-11-27 12:38:11 -0500 (Thu, 27 Nov 2025) EndedAt: 2025-11-27 12:39:28 -0500 (Thu, 27 Nov 2025) EllapsedTime: 77.2 seconds RetCode: 0 Status: OK CheckDir: mammaPrintData.Rcheck Warnings: 0