Package: mCSEAdata Version: 1.31.1 Command: /home/biocbuild/bbs-3.23-bioc/R/bin/R CMD check --install=check:mCSEAdata.install-out.txt --library=/home/biocbuild/bbs-3.23-bioc/R/site-library --timings mCSEAdata_1.31.1.tar.gz StartedAt: 2025-11-20 12:47:11 -0500 (Thu, 20 Nov 2025) EndedAt: 2025-11-20 12:47:55 -0500 (Thu, 20 Nov 2025) EllapsedTime: 43.3 seconds RetCode: 0 Status: WARNINGS CheckDir: mCSEAdata.Rcheck Warnings: 1