Package: lumiBarnes Version: 1.49.0 Command: /home/biocbuild/bbs-3.22-bioc/R/bin/R CMD check --install=check:lumiBarnes.install-out.txt --library=/home/biocbuild/bbs-3.22-bioc/R/site-library --timings lumiBarnes_1.49.0.tar.gz StartedAt: 2025-10-23 12:37:37 -0400 (Thu, 23 Oct 2025) EndedAt: 2025-10-23 12:40:01 -0400 (Thu, 23 Oct 2025) EllapsedTime: 144.7 seconds RetCode: 0 Status: WARNINGS CheckDir: lumiBarnes.Rcheck Warnings: 1