Package: leukemiasEset Version: 1.47.0 Command: /home/biocbuild/bbs-3.23-bioc/R/bin/R CMD INSTALL leukemiasEset StartedAt: 2025-11-06 10:56:21 -0500 (Thu, 06 Nov 2025) EndedAt: 2025-11-06 10:56:23 -0500 (Thu, 06 Nov 2025) EllapsedTime: 2.6 seconds RetCode: 0 Status: OK