Package: leeBamViews Version: 1.47.0 Command: /home/biocbuild/bbs-3.23-bioc/R/bin/R CMD INSTALL leeBamViews StartedAt: 2025-10-30 11:01:00 -0400 (Thu, 30 Oct 2025) EndedAt: 2025-10-30 11:01:29 -0400 (Thu, 30 Oct 2025) EllapsedTime: 28.9 seconds RetCode: 0 Status: OK