Package: leeBamViews Version: 1.47.0 Command: /home/biocbuild/bbs-3.23-bioc/R/bin/R CMD build --keep-empty-dirs --no-resave-data leeBamViews StartedAt: 2025-10-30 11:23:34 -0400 (Thu, 30 Oct 2025) EndedAt: 2025-10-30 11:24:18 -0400 (Thu, 30 Oct 2025) EllapsedTime: 44.2 seconds RetCode: 1 Status: ERROR PackageFile: None PackageFileSize: NA