Package: kidpack Version: 1.53.0 Command: /home/biocbuild/bbs-3.23-bioc/R/bin/R CMD INSTALL kidpack StartedAt: 2025-10-30 10:56:23 -0400 (Thu, 30 Oct 2025) EndedAt: 2025-10-30 10:56:29 -0400 (Thu, 30 Oct 2025) EllapsedTime: 5.7 seconds RetCode: 0 Status: OK