Package: imcdatasets Version: 1.19.0 Command: /home/biocbuild/bbs-3.23-bioc/R/bin/R CMD build --keep-empty-dirs --no-resave-data imcdatasets StartedAt: 2025-10-30 11:22:43 -0400 (Thu, 30 Oct 2025) EndedAt: 2025-10-30 11:25:07 -0400 (Thu, 30 Oct 2025) EllapsedTime: 143.4 seconds RetCode: 0 Status: OK PackageFile: imcdatasets_1.19.0.tar.gz PackageFileSize: 1.629 MiB