Package: iModMixData Version: 1.1.0 Command: /home/biocbuild/bbs-3.23-bioc/R/bin/R CMD check --install=check:iModMixData.install-out.txt --library=/home/biocbuild/bbs-3.23-bioc/R/site-library --timings iModMixData_1.1.0.tar.gz StartedAt: 2025-10-30 12:21:36 -0400 (Thu, 30 Oct 2025) EndedAt: 2025-10-30 12:23:20 -0400 (Thu, 30 Oct 2025) EllapsedTime: 104.5 seconds RetCode: 0 Status: OK CheckDir: iModMixData.Rcheck Warnings: 0